BEGIN:VCALENDAR
VERSION:2.0
CALSCALE:GREGORIAN
PRODID:-//Diputació de Barcelona//DibaCMS//EN
BEGIN:VEVENT
UID:4655
DTSTAMP:20260424T035313
DTSTART:20220417T120000
DTEND:20220417T130000
SUMMARY:Cobla la Principal del Llobregat
LOCATION:Plaça de l'Ajuntament 08370 Calella
METHOD:PUBLISH
X-WR-CALNAME:calella@calella.cat
X-WR-TIMEZONE:Europe/Madrid
DESCRIPTION:Organitzat per l’Agrupació Sardanista de Calella.

URI:https://www.calella.cat/actualitat/agenda/cobla-la-principal-del-llobregat.html
CLASS:PUBLIC
END:VEVENT
END:VCALENDAR
