BEGIN:VCALENDAR
VERSION:2.0
CALSCALE:GREGORIAN
PRODID:-//Diputació de Barcelona//DibaCMS//EN
BEGIN:VEVENT
UID:4654
DTSTAMP:20260423T212246
DTSTART:20220417T120000
DTEND:20220417T130000
SUMMARY:Visites guiades a les exposicions de fotografia
LOCATION:c. Sant Pere, 152 08370 Calella
METHOD:PUBLISH
X-WR-CALNAME:calella@calella.cat
X-WR-TIMEZONE:Europe/Madrid
DESCRIPTION:Cal reserva prèvia a 646 653 502. Organitza: Foto-Film Calella. www.festimatge.org

URI:https://www.calella.cat/actualitat/agenda/4654-visites-guiades-a-les-exposicions-de-fotografia.html
CLASS:PUBLIC
END:VEVENT
END:VCALENDAR
