BEGIN:VCALENDAR
VERSION:2.0
CALSCALE:GREGORIAN
PRODID:-//Diputació de Barcelona//DibaCMS//EN
BEGIN:VEVENT
UID:4653
DTSTAMP:20260424T021140
DTSTART:20220416T190000
DTEND:20220416T200000
SUMMARY:Conferència de Cinema "Els orígens de Hollywood. A la recerca del somni americà" a càrrec d'Alberto Beorlegui.
LOCATION:c. Sant Jaume, 225-229 08370 Calella
METHOD:PUBLISH
X-WR-CALNAME:calella@calella.cat
X-WR-TIMEZONE:Europe/Madrid
DESCRIPTION:
Organitza: Foto-Film Calella www.festimatge.org amb la col·laboració de l’Aula d’Extensió Universitària de Calella.


URI:https://www.calella.cat/actualitat/agenda/conferencia-de-cinema-els-origens-de-hollywood-a-la-recerca-del-somni-america-a-carrec-dalberto-beorlegui.html
CLASS:PUBLIC
END:VEVENT
END:VCALENDAR
