BEGIN:VCALENDAR
VERSION:2.0
CALSCALE:GREGORIAN
PRODID:-//Diputació de Barcelona//DibaCMS//EN
BEGIN:VEVENT
UID:4652
DTSTAMP:20260423T201041
DTSTART:20220416T200000
DTEND:20220416T210000
SUMMARY:Conferència "Evolució o involució. La generació d'artistes sense ofici" a càrrec d'Enric de Santos Fernández-Luna
LOCATION:Hotel Volga (C/de Jovara, 350) 
METHOD:PUBLISH
X-WR-CALNAME:calella@calella.cat
X-WR-TIMEZONE:Europe/Madrid
DESCRIPTION:
Organitza: Foto-Film Calella www.festimatge.org.


URI:https://www.calella.cat/actualitat/agenda/conferencia-evolucio-o-involucio-la-generacio-dartistes-sense-ofici-a-carrec-denric-de-santos-fernandez-luna.html
CLASS:PUBLIC
END:VEVENT
END:VCALENDAR
