BEGIN:VCALENDAR
VERSION:2.0
CALSCALE:GREGORIAN
PRODID:-//Diputació de Barcelona//DibaCMS//EN
BEGIN:VEVENT
UID:4650
DTSTAMP:20260424T020858
DTSTART:20220415T203000
DTEND:20220415T213000
SUMMARY:Processó de Setmana Santa
LOCATION:
METHOD:PUBLISH
X-WR-CALNAME:calella@calella.cat
X-WR-TIMEZONE:Europe/Madrid
DESCRIPTION:sortida del portal gran de la Parròquia de Santa Maria i Sant Nicolau, pels carrers de: Romaní, Església, Batlle, Jovara, Escoles Pies,  plaça de l’Ajuntament, Bisbe Sivilla fins a l’Església. 

URI:https://www.calella.cat/actualitat/agenda/processo-de-setmana-santa.html
CLASS:PUBLIC
END:VEVENT
END:VCALENDAR
