BEGIN:VCALENDAR
VERSION:2.0
CALSCALE:GREGORIAN
PRODID:-//Diputació de Barcelona//DibaCMS//EN
BEGIN:VEVENT
UID:4649
DTSTAMP:20260424T020925
DTSTART:20220415T193000
DTEND:20220415T203000
SUMMARY:Sortida dels Armats de la Confraria de Setmana Santa
LOCATION:
METHOD:PUBLISH
X-WR-CALNAME:calella@calella.cat
X-WR-TIMEZONE:Europe/Madrid
DESCRIPTION:des del Centre Parroquial (Jovara, 102) pels carrers de: Jovara, Sant Josep, Església, Romaní, fins al portal gran de l’Església. 

URI:https://www.calella.cat/actualitat/agenda/sortida-dels-armats-de-la-confraria-de-setmana-santa.html
CLASS:PUBLIC
END:VEVENT
END:VCALENDAR
