BEGIN:VCALENDAR
VERSION:2.0
CALSCALE:GREGORIAN
PRODID:-//Diputació de Barcelona//DibaCMS//EN
BEGIN:VEVENT
UID:4648
DTSTAMP:20260424T040555
DTSTART:20220402T000000
DTEND:20220626T000000
SUMMARY:Exposició Festimatge "Small things in silence", de Masao Yamamoto
LOCATION:Plaça de l'Ajuntament, 1-4 08370 Calella
METHOD:PUBLISH
X-WR-CALNAME:calella@calella.cat
X-WR-TIMEZONE:Europe/Madrid
DESCRIPTION:L’exposició principal de la programació de Festimatge es pot visitar fins al 26 de juny a la Sala d’Exposicions de l’Ajuntament Vell.

URI:https://www.calella.cat/actualitat/agenda/exposicio-festimatge-small-things-in-silence-de-masao-yamamoto.html
CLASS:PUBLIC
END:VEVENT
END:VCALENDAR
