BEGIN:VCALENDAR
VERSION:2.0
CALSCALE:GREGORIAN
PRODID:-//Diputació de Barcelona//DibaCMS//EN
BEGIN:VEVENT
UID:4647
DTSTAMP:20260424T021210
DTSTART:20220415T110000
DTEND:20220415T120000
SUMMARY:Via Crucis
LOCATION:c. Raval, 1 08370 Calella
METHOD:PUBLISH
X-WR-CALNAME:calella@calella.cat
X-WR-TIMEZONE:Europe/Madrid
DESCRIPTION:Amb sortida pel portal petit, plaça de l’Església fins al portal gran.

URI:https://www.calella.cat/actualitat/agenda/via-crucis.html
CLASS:PUBLIC
END:VEVENT
END:VCALENDAR
