BEGIN:VCALENDAR
VERSION:2.0
CALSCALE:GREGORIAN
PRODID:-//Diputació de Barcelona//DibaCMS//EN
BEGIN:VEVENT
UID:4644
DTSTAMP:20260424T083219
DTSTART:20220414T110000
DTEND:20220414T120000
SUMMARY:Grup de conversa en Català
LOCATION:Plaça de l'Ajuntament, 31 08370 Calella
METHOD:PUBLISH
X-WR-CALNAME:calella@calella.cat
X-WR-TIMEZONE:Europe/Madrid
DESCRIPTION:
A càrrec de Marisa activitat en col·laboració amb el Centre de Català de Calella


URI:https://www.calella.cat/actualitat/agenda/4644-grup-de-conversa-en-catala.html
CLASS:PUBLIC
END:VEVENT
END:VCALENDAR
