BEGIN:VCALENDAR
VERSION:2.0
CALSCALE:GREGORIAN
PRODID:-//Diputació de Barcelona//DibaCMS//EN
BEGIN:VEVENT
UID:4643
DTSTAMP:20260424T143701
DTSTART:20220414T100000
DTEND:20220414T130000
SUMMARY:Excursió pel Montnegre
LOCATION:Sortida des de l’Espai Jove de Can Saleta 
METHOD:PUBLISH
X-WR-CALNAME:calella@calella.cat
X-WR-TIMEZONE:Europe/Madrid
DESCRIPTION:Places limitades. Necessària inscripció prèvia. Més informació a l’Espai Jove, al 663348717, @calellajove o aj035.joventut@calella.cat

URI:https://www.calella.cat/actualitat/agenda/excursio-pel-montnegre.html
CLASS:PUBLIC
END:VEVENT
END:VCALENDAR
