BEGIN:VCALENDAR
VERSION:2.0
CALSCALE:GREGORIAN
PRODID:-//Diputació de Barcelona//DibaCMS//EN
BEGIN:VEVENT
UID:4640
DTSTAMP:20260424T070324
DTSTART:20220413T183000
DTEND:20220413T200000
SUMMARY:Presentació conte solidari del Senegal
LOCATION:Plaça de l'Ajuntament, 31 08370 Calella
METHOD:PUBLISH
X-WR-CALNAME:calella@calella.cat
X-WR-TIMEZONE:Europe/Madrid
DESCRIPTION: En col·laboració amb la llibreria La Llopa

URI:https://www.calella.cat/actualitat/agenda/4640-presentacio-conte-solidari-del-senegal.html
CLASS:PUBLIC
END:VEVENT
END:VCALENDAR
