BEGIN:VCALENDAR
VERSION:2.0
CALSCALE:GREGORIAN
PRODID:-//Diputació de Barcelona//DibaCMS//EN
BEGIN:VEVENT
UID:4638
DTSTAMP:20260424T071746
DTSTART:20220413T100000
DTEND:20220413T130000
SUMMARY:Torneig de bàsquet femení 3x3
LOCATION:Can Xaubet (sortida des de l’Espai Jove de Can Saleta) 
METHOD:PUBLISH
X-WR-CALNAME:calella@calella.cat
X-WR-TIMEZONE:Europe/Madrid
DESCRIPTION:Places limitades. Necessària inscripció prèvia.

URI:https://www.calella.cat/actualitat/agenda/torneig-de-basquet-femeni-3x3.html
CLASS:PUBLIC
END:VEVENT
END:VCALENDAR
