BEGIN:VCALENDAR
VERSION:2.0
CALSCALE:GREGORIAN
PRODID:-//Diputació de Barcelona//DibaCMS//EN
BEGIN:VEVENT
UID:4637
DTSTAMP:20260424T131639
DTSTART:20220413T093000
DTEND:20220413T110000
SUMMARY:Passejades
LOCATION:Parc Dalmau 08370 Calella
METHOD:PUBLISH
X-WR-CALNAME:calella@calella.cat
X-WR-TIMEZONE:Europe/Madrid
DESCRIPTION:
Organitza: Associació Calella-Marxa. Per a més informació, al telèfon 655 81 20 07.


URI:https://www.calella.cat/actualitat/agenda/4637-passejades.html
CLASS:PUBLIC
END:VEVENT
END:VCALENDAR
