BEGIN:VCALENDAR
VERSION:2.0
CALSCALE:GREGORIAN
PRODID:-//Diputació de Barcelona//DibaCMS//EN
BEGIN:VEVENT
UID:4636
DTSTAMP:20260424T071235
DTSTART:20220412T200000
DTEND:20220412T213000
SUMMARY:Projecció de Curtmetratges seleccionats al 28è Trofeu Torretes de curtmetratges del Festimatge’22
LOCATION:c. Sant Jaume, 225-229 08370 Calella
METHOD:PUBLISH
X-WR-CALNAME:calella@calella.cat
X-WR-TIMEZONE:Europe/Madrid
DESCRIPTION:Organitza: Foto-Film Calella www.festimatge.org 

URI:https://www.calella.cat/actualitat/agenda/4636-projeccio-de-curtmetratges-seleccionats-al-28e-trofeu-torretes-de-curtmetratges-del-festimatge22.html
CLASS:PUBLIC
END:VEVENT
END:VCALENDAR
