BEGIN:VCALENDAR
VERSION:2.0
CALSCALE:GREGORIAN
PRODID:-//Diputació de Barcelona//DibaCMS//EN
BEGIN:VEVENT
UID:4635
DTSTAMP:20260424T034911
DTSTART:20220412T160000
DTEND:20220412T190000
SUMMARY:Torneig de vòlei platja
LOCATION:A la platja de Calella (sortida des de l’Espai Jove de Can Saleta) 
METHOD:PUBLISH
X-WR-CALNAME:calella@calella.cat
X-WR-TIMEZONE:Europe/Madrid
DESCRIPTION:Places limitades. Necessària inscripció prèvia. Més informació a l’Espai Jove, al 663348717, @calellajove o aj035.joventut@calella.cat

URI:https://www.calella.cat/actualitat/agenda/torneig-de-volei-platja.html
CLASS:PUBLIC
END:VEVENT
END:VCALENDAR
