BEGIN:VCALENDAR
VERSION:2.0
CALSCALE:GREGORIAN
PRODID:-//Diputació de Barcelona//DibaCMS//EN
BEGIN:VEVENT
UID:4632
DTSTAMP:20260424T082957
DTSTART:20220411T110000
DTEND:20220411T120000
SUMMARY:Taller d’escalada i slakline
LOCATION:Platja Rocapins (sortida des de l’Espai Jove de Can Saleta) 
METHOD:PUBLISH
X-WR-CALNAME:calella@calella.cat
X-WR-TIMEZONE:Europe/Madrid
DESCRIPTION:Places limitades. Necessària inscripció prèvia. Més informació a l’Espai Jove, al 663348717, @calellajove o aj035.joventut@calella.cat. 

URI:https://www.calella.cat/actualitat/agenda/taller-descalada-i-slakline.html
CLASS:PUBLIC
END:VEVENT
END:VCALENDAR
