BEGIN:VCALENDAR
VERSION:2.0
CALSCALE:GREGORIAN
PRODID:-//Diputació de Barcelona//DibaCMS//EN
BEGIN:VEVENT
UID:4628
DTSTAMP:20260424T052801
DTSTART:20220410T120000
DTEND:20220410T130000
SUMMARY:Diumenge de Rams
LOCATION:Plaça de l'Església 08370 Calella
METHOD:PUBLISH
X-WR-CALNAME:calella@calella.cat
X-WR-TIMEZONE:Europe/Madrid
DESCRIPTION:Benedicció de palmes i palmons

URI:https://www.calella.cat/actualitat/agenda/diumenge-de-rams.html
CLASS:PUBLIC
END:VEVENT
END:VCALENDAR
