BEGIN:VCALENDAR
VERSION:2.0
CALSCALE:GREGORIAN
PRODID:-//Diputació de Barcelona//DibaCMS//EN
BEGIN:VEVENT
UID:4627
DTSTAMP:20260423T212223
DTSTART:20220409T213000
DTEND:20220409T230000
SUMMARY:Cicle cultural: Laberint Striptease
LOCATION:c. Església, 249-251 08370 Calella
METHOD:PUBLISH
X-WR-CALNAME:calella@calella.cat
X-WR-TIMEZONE:Europe/Madrid
DESCRIPTION:amb Jordi Cornudella, Elena Martinell, Laura Marsal, Davo Marín i Roberto G. Alonso. Dramatúrgia, direcció i coreografia: Roberto G. Alonso (teatre cabaret recomanat a partir de 16 anys)

URI:https://www.calella.cat/actualitat/agenda/cicle-cultural-laberint-striptease.html
CLASS:PUBLIC
END:VEVENT
END:VCALENDAR
