BEGIN:VCALENDAR
VERSION:2.0
CALSCALE:GREGORIAN
PRODID:-//Diputació de Barcelona//DibaCMS//EN
BEGIN:VEVENT
UID:4625
DTSTAMP:20260424T021054
DTSTART:20220409T183000
DTEND:20220409T200000
SUMMARY:Presentació del llibre "Jaume Pruna i Paradell: un home d’acció"
LOCATION:c. Escoles Pies, 36 08370 Calella
METHOD:PUBLISH
X-WR-CALNAME:calella@calella.cat
X-WR-TIMEZONE:Europe/Madrid
DESCRIPTION:A càrrec de Jaume Pruna i Sarquella i Joaquim Pera i Isern

URI:https://www.calella.cat/actualitat/agenda/presentacio-del-llibre-jaume-pruna-i-paradell-un-home-daccio.html
CLASS:PUBLIC
END:VEVENT
END:VCALENDAR
