BEGIN:VCALENDAR
VERSION:2.0
CALSCALE:GREGORIAN
PRODID:-//Diputació de Barcelona//DibaCMS//EN
BEGIN:VEVENT
UID:4624
DTSTAMP:20260423T200542
DTSTART:20220409T100000
DTEND:20220409T140000
SUMMARY:Taller de vídeo amb telèfon mòbil a càrrec de Carlos Mesa
LOCATION:C. Sant Jaume, 339 08370 Calella
METHOD:PUBLISH
X-WR-CALNAME:calella@calella.cat
X-WR-TIMEZONE:Europe/Madrid
DESCRIPTION:
Inscripcions: 646 653 502. Organitza: Foto-Film Calella www.festimatge.org


URI:https://www.calella.cat/actualitat/agenda/taller-de-video-amb-telefon-mobil-a-carrec-de-carlos-mesa.html
CLASS:PUBLIC
END:VEVENT
END:VCALENDAR
