BEGIN:VCALENDAR
VERSION:2.0
CALSCALE:GREGORIAN
PRODID:-//Diputació de Barcelona//DibaCMS//EN
BEGIN:VEVENT
UID:4622
DTSTAMP:20260424T020828
DTSTART:20220407T000000
DTEND:20220407T000000
SUMMARY:Homenatge a Josep Maria Forn i Projecció del seu film "La pell cremada"
LOCATION:c. Sant Jaume, 225-229 08370 Calella
METHOD:PUBLISH
X-WR-CALNAME:calella@calella.cat
X-WR-TIMEZONE:Europe/Madrid
DESCRIPTION:Organitza: Foto-Film Calella www.festimatge.org

URI:https://www.calella.cat/actualitat/agenda/homenatge-a-josep-maria-forn-i-projeccio-del-seu-film-la-pell-cremada.html
CLASS:PUBLIC
END:VEVENT
END:VCALENDAR
