BEGIN:VCALENDAR
VERSION:2.0
CALSCALE:GREGORIAN
PRODID:-//Diputació de Barcelona//DibaCMS//EN
BEGIN:VEVENT
UID:4621
DTSTAMP:20260423T225530
DTSTART:20220407T180000
DTEND:20220407T190000
SUMMARY:Taller Dia Mundial de la Salut
LOCATION:c. Sant Jaume, 225-229 08370 Calella
METHOD:PUBLISH
X-WR-CALNAME:calella@calella.cat
X-WR-TIMEZONE:Europe/Madrid
DESCRIPTION:Necessària inscripció prèvia. 

URI:https://www.calella.cat/actualitat/agenda/taller-dia-mundial-de-la-salut.html
CLASS:PUBLIC
END:VEVENT
END:VCALENDAR
