BEGIN:VCALENDAR
VERSION:2.0
CALSCALE:GREGORIAN
PRODID:-//Diputació de Barcelona//DibaCMS//EN
BEGIN:VEVENT
UID:4620
DTSTAMP:20260423T212155
DTSTART:20220407T090000
DTEND:20220407T140000
SUMMARY:Acció formativa “Desenvolupa el teu projecte profesional amb Lego Serious Play"
LOCATION:c. Sant Jaume, 225-229 08370 Calella
METHOD:PUBLISH
X-WR-CALNAME:calella@calella.cat
X-WR-TIMEZONE:Europe/Madrid
DESCRIPTION:adreçada a persones aturades. A càrrec de Francesc Gelida Latorre. 

URI:https://www.calella.cat/actualitat/agenda/accio-formativa-desenvolupa-el-teu-projecte-profesional-amb-lego-serious-play.html
CLASS:PUBLIC
END:VEVENT
END:VCALENDAR
