BEGIN:VCALENDAR
VERSION:2.0
CALSCALE:GREGORIAN
PRODID:-//Diputació de Barcelona//DibaCMS//EN
BEGIN:VEVENT
UID:4619
DTSTAMP:20260424T082916
DTSTART:20220407T110000
DTEND:20220407T120000
SUMMARY:Grup de conversa en Català
LOCATION:Plaça de l'Ajuntament, 31 08370 Calella
METHOD:PUBLISH
X-WR-CALNAME:calella@calella.cat
X-WR-TIMEZONE:Europe/Madrid
DESCRIPTION:
a càrrec de Marisa activitat en col·laboració amb el Centre de Català de Calella


URI:https://www.calella.cat/actualitat/agenda/4619-grup-de-conversa-en-catala.html
CLASS:PUBLIC
END:VEVENT
END:VCALENDAR
