BEGIN:VCALENDAR
VERSION:2.0
CALSCALE:GREGORIAN
PRODID:-//Diputació de Barcelona//DibaCMS//EN
BEGIN:VEVENT
UID:4588
DTSTAMP:20260423T212604
DTSTART:20220313T120000
DTEND:20220313T120000
SUMMARY:Visita comentada en perspectiva femenina 
LOCATION:c. Escoles Pies, 36 08370 Calella
METHOD:PUBLISH
X-WR-CALNAME:calella@calella.cat
X-WR-TIMEZONE:Europe/Madrid
DESCRIPTION:Commemoració del Dia Internacional de les Dones

URI:https://www.calella.cat/actualitat/agenda/visita-comentada-en-perspectiva-femenina-.html
CLASS:PUBLIC
END:VEVENT
END:VCALENDAR
