BEGIN:VCALENDAR
VERSION:2.0
CALSCALE:GREGORIAN
PRODID:-//Diputació de Barcelona//DibaCMS//EN
BEGIN:VEVENT
UID:4569
DTSTAMP:20260424T003559
DTSTART:20220301T090000
DTEND:20220316T180000
SUMMARY:Exposició "Economia creativa"
LOCATION:Plaça de l'Ajuntament, 31 08370 Calella
METHOD:PUBLISH
X-WR-CALNAME:calella@calella.cat
X-WR-TIMEZONE:Europe/Madrid
DESCRIPTION:Exposició cedida per la Gerència de Serveis de Biblioteques de la Diputació de Barcelona.

URI:https://www.calella.cat/actualitat/agenda/exposicio-economia-creativa.html
CLASS:PUBLIC
END:VEVENT
END:VCALENDAR
