BEGIN:VCALENDAR
VERSION:2.0
CALSCALE:GREGORIAN
PRODID:-//Diputació de Barcelona//DibaCMS//EN
BEGIN:VEVENT
UID:4566
DTSTAMP:20260423T152424
DTSTART:20220330T183000
DTEND:20220330T183000
SUMMARY:Conferència “Fonaments físics del GPS i noves perspectives d’aplicació”
LOCATION:c. Sant Jaume, 225-229 08370 Calella
METHOD:PUBLISH
X-WR-CALNAME:calella@calella.cat
X-WR-TIMEZONE:Europe/Madrid
DESCRIPTION:A càrrec del Dr. David Jou, catedràtic de Física de la Matèria Condensada a la Universitat Autònoma de Barcelona. Doctor Honoris Causa de la Universitat de Girona.

URI:https://www.calella.cat/actualitat/agenda/conferencia-fonaments-fisics-del-gps-i-noves-perspectives-daplicacio.html
CLASS:PUBLIC
END:VEVENT
END:VCALENDAR
