BEGIN:VCALENDAR
VERSION:2.0
CALSCALE:GREGORIAN
PRODID:-//Diputació de Barcelona//DibaCMS//EN
BEGIN:VEVENT
UID:4565
DTSTAMP:20260423T164130
DTSTART:20220330T180000
DTEND:20220330T190000
SUMMARY:Contes en femení
LOCATION:Plaça de l'Ajuntament, 31 08370 Calella
METHOD:PUBLISH
X-WR-CALNAME:calella@calella.cat
X-WR-TIMEZONE:Europe/Madrid
DESCRIPTION:a càrrec de Sílvia Serra.

URI:https://www.calella.cat/actualitat/agenda/contes-en-femeni.html
CLASS:PUBLIC
END:VEVENT
END:VCALENDAR
