BEGIN:VCALENDAR
VERSION:2.0
CALSCALE:GREGORIAN
PRODID:-//Diputació de Barcelona//DibaCMS//EN
BEGIN:VEVENT
UID:4556
DTSTAMP:20260423T135436
DTSTART:20220327T120000
DTEND:20220327T120000
SUMMARY:40a. edició Jocs Florals de Calella
LOCATION:c. Sant Pere, 120 08370 Calella
METHOD:PUBLISH
X-WR-CALNAME:calella@calella.cat
X-WR-TIMEZONE:Europe/Madrid
DESCRIPTION:a l’església de l’Escola Pia. Veredicte i proclamació dels guanyadors

URI:https://www.calella.cat/actualitat/agenda/40a-edicio-jocs-florals-de-calella.html
CLASS:PUBLIC
END:VEVENT
END:VCALENDAR
