BEGIN:VCALENDAR
VERSION:2.0
CALSCALE:GREGORIAN
PRODID:-//Diputació de Barcelona//DibaCMS//EN
BEGIN:VEVENT
UID:4555
DTSTAMP:20260424T041215
DTSTART:20220326T213000
DTEND:20220326T213000
SUMMARY:Cicle Cultural amb Benedicta televisió
LOCATION:c. Església, 249-251 08370 Calella
METHOD:PUBLISH
X-WR-CALNAME:calella@calella.cat
X-WR-TIMEZONE:Europe/Madrid
DESCRIPTION:a càrrec de la Cia. Toma Pa’Tí amb Raúl Heredia, Lucía Martínez i Blanca Guerrero (teatre-comèdia en català).

URI:https://www.calella.cat/actualitat/agenda/cicle-cultural-amb-benedicta-televisio.html
CLASS:PUBLIC
END:VEVENT
END:VCALENDAR
