BEGIN:VCALENDAR
VERSION:2.0
CALSCALE:GREGORIAN
PRODID:-//Diputació de Barcelona//DibaCMS//EN
BEGIN:VEVENT
UID:4549
DTSTAMP:20260423T135518
DTSTART:20220324T210000
DTEND:20220324T210000
SUMMARY:Cinema Gaudí amb la pel·lícula "Sis dies corrents"
LOCATION:c. Sant Jaume, 225-229 08370 Calella
METHOD:PUBLISH
X-WR-CALNAME:calella@calella.cat
X-WR-TIMEZONE:Europe/Madrid
DESCRIPTION:Original en català. Directora: Neus Ballús. País: Espanya. Any: 2021. Intèrprets: Mohamed Mellali, Valero Escolar, Pep Sarrià.

URI:https://www.calella.cat/actualitat/agenda/cinema-gaudi-amb-la-pellicula-sis-dies-corrents.html
CLASS:PUBLIC
END:VEVENT
END:VCALENDAR
