BEGIN:VCALENDAR
VERSION:2.0
CALSCALE:GREGORIAN
PRODID:-//Diputació de Barcelona//DibaCMS//EN
BEGIN:VEVENT
UID:4547
DTSTAMP:20260423T194845
DTSTART:20220324T180000
DTEND:20220324T180000
SUMMARY:Taller de bitlles catalanes
LOCATION:c. Sant Jaume, 225-229 08370 Calella
METHOD:PUBLISH
X-WR-CALNAME:calella@calella.cat
X-WR-TIMEZONE:Europe/Madrid
DESCRIPTION:a càrrec de Calella-Marxa

URI:https://www.calella.cat/actualitat/agenda/taller-de-bitlles-catalanes.html
CLASS:PUBLIC
END:VEVENT
END:VCALENDAR
