BEGIN:VCALENDAR
VERSION:2.0
CALSCALE:GREGORIAN
PRODID:-//Diputació de Barcelona//DibaCMS//EN
BEGIN:VEVENT
UID:4545
DTSTAMP:20260423T152359
DTSTART:20220324T100000
DTEND:20220324T130000
SUMMARY:Curs online adreçat a empreses i persones emprenedores “Aplicacions i recursos digitals per augmentar la productivitat millorant el treball col·laboratiu”
LOCATION:
METHOD:PUBLISH
X-WR-CALNAME:calella@calella.cat
X-WR-TIMEZONE:Europe/Madrid
DESCRIPTION:a càrrec de NouBiz Formació

URI:https://www.calella.cat/actualitat/agenda/4545-curs-online-adrecat-a-empreses-i-persones-emprenedores-aplicacions-i-recursos-digitals-per-augmentar-la-productivitat-millorant-el-treball-collaboratiu.html
CLASS:PUBLIC
END:VEVENT
END:VCALENDAR
