BEGIN:VCALENDAR
VERSION:2.0
CALSCALE:GREGORIAN
PRODID:-//Diputació de Barcelona//DibaCMS//EN
BEGIN:VEVENT
UID:4543
DTSTAMP:20260423T135017
DTSTART:20220323T183000
DTEND:20220323T183000
SUMMARY:Conferència “La vida de cada dia a la Catalunya jueva medieval”
LOCATION:c. Sant Jaume, 225-229 08370 Calella
METHOD:PUBLISH
X-WR-CALNAME:calella@calella.cat
X-WR-TIMEZONE:Europe/Madrid
DESCRIPTION:A càrrec de la Dra. Sílvia Planas, llicenciada en Història Medieval i doctora per la Universitat de Tolosa - Joan Jaurés. Directora del Museu d’Història dels Jueus i del Museu d’Història de Girona.

URI:https://www.calella.cat/actualitat/agenda/conferencia-la-vida-de-cada-dia-a-la-catalunya-jueva-medieval.html
CLASS:PUBLIC
END:VEVENT
END:VCALENDAR
