BEGIN:VCALENDAR
VERSION:2.0
CALSCALE:GREGORIAN
PRODID:-//Diputació de Barcelona//DibaCMS//EN
BEGIN:VEVENT
UID:4542
DTSTAMP:20260424T021951
DTSTART:20220323T180000
DTEND:20220323T180000
SUMMARY:Taller de Manga
LOCATION:Plaça de l'Ajuntament, 31 08370 Calella
METHOD:PUBLISH
X-WR-CALNAME:calella@calella.cat
X-WR-TIMEZONE:Europe/Madrid
DESCRIPTION:A càrrec de Blanca Bonastre

URI:https://www.calella.cat/actualitat/agenda/taller-de-manga.html
CLASS:PUBLIC
END:VEVENT
END:VCALENDAR
