BEGIN:VCALENDAR
VERSION:2.0
CALSCALE:GREGORIAN
PRODID:-//Diputació de Barcelona//DibaCMS//EN
BEGIN:VEVENT
UID:4538
DTSTAMP:20260423T212629
DTSTART:20220322T180000
DTEND:20220322T200000
SUMMARY:Xerrada sobre el “Funcionament de l’Abastament d’aigua a Calella i com pot afectar la crisi climàtica en la gestió de l’aigua en el futur”
LOCATION:c. Sant Jaume, 225-229 08370 Calella
METHOD:PUBLISH
X-WR-CALNAME:calella@calella.cat
X-WR-TIMEZONE:Europe/Madrid
DESCRIPTION:a càrrec David Fabregat, gerent de Gestaigua (empresa gestora del Servei municipal de l'Aigua de Calella)

URI:https://www.calella.cat/actualitat/agenda/xerrada-sobre-el-funcionament-de-labastament-daigua-a-calella-i-com-pot-afectar-la-crisi-climatica-en-la-gestio-de-laigua-en-el-futur.html
CLASS:PUBLIC
END:VEVENT
END:VCALENDAR
