BEGIN:VCALENDAR
VERSION:2.0
CALSCALE:GREGORIAN
PRODID:-//Diputació de Barcelona//DibaCMS//EN
BEGIN:VEVENT
UID:4528
DTSTAMP:20260423T152143
DTSTART:20220321T090000
DTEND:20220321T130000
SUMMARY:Acció formativa adreçada a persones aturades “Alfabetització digital per a la recerca de feina”
LOCATION:c. Sant Jaume, 225-229 08370 Calella
METHOD:PUBLISH
X-WR-CALNAME:calella@calella.cat
X-WR-TIMEZONE:Europe/Madrid
DESCRIPTION:a càrrec de Jan Martínez i Rosas (Apprèn.cat).

URI:https://www.calella.cat/actualitat/agenda/4528-accio-formativa-adrecada-a-persones-aturades-alfabetitzacio-digital-per-a-la-recerca-de-feina.html
CLASS:PUBLIC
END:VEVENT
END:VCALENDAR
