BEGIN:VCALENDAR
VERSION:2.0
CALSCALE:GREGORIAN
PRODID:-//Diputació de Barcelona//DibaCMS//EN
BEGIN:VEVENT
UID:4522
DTSTAMP:20260423T211957
DTSTART:20220319T213000
DTEND:20220319T213000
SUMMARY:Cicle Cultural amb Angle mort
LOCATION:c. Església, 249-251 08370 Calella
METHOD:PUBLISH
X-WR-CALNAME:calella@calella.cat
X-WR-TIMEZONE:Europe/Madrid
DESCRIPTION:amb Berta Bahr, Ramon Godino, Alberto Lozano i Rafaela Rivas. Una comèdia de Roc Esquius i Sergi Belbel (teatre-comèdia en català).

URI:https://www.calella.cat/actualitat/agenda/cicle-cultural-amb-angle-mort.html
CLASS:PUBLIC
END:VEVENT
END:VCALENDAR
