BEGIN:VCALENDAR
VERSION:2.0
CALSCALE:GREGORIAN
PRODID:-//Diputació de Barcelona//DibaCMS//EN
BEGIN:VEVENT
UID:4521
DTSTAMP:20260424T023326
DTSTART:20220319T210000
DTEND:20220319T210000
SUMMARY:Activa’t el finde: “First Round. La vida és com un ring de boxa”
LOCATION:c. Sant Jaume, 225-229 08370 Calella
METHOD:PUBLISH
X-WR-CALNAME:calella@calella.cat
X-WR-TIMEZONE:Europe/Madrid
DESCRIPTION:Al Legends Calella. Comèdia sobre les situacions de masclisme quotidià que ens trobem les dones constantment en les diferents etapes de la nostra vida.

URI:https://www.calella.cat/actualitat/agenda/activat-el-finde-first-round-la-vida-es-com-un-ring-de-boxa.html
CLASS:PUBLIC
END:VEVENT
END:VCALENDAR
