BEGIN:VCALENDAR
VERSION:2.0
CALSCALE:GREGORIAN
PRODID:-//Diputació de Barcelona//DibaCMS//EN
BEGIN:VEVENT
UID:4520
DTSTAMP:20260424T015908
DTSTART:20220319T120000
DTEND:20220319T120000
SUMMARY:L'hora del conte per a nadons
LOCATION:Plaça de l'Ajuntament, 31 08370 Calella
METHOD:PUBLISH
X-WR-CALNAME:calella@calella.cat
X-WR-TIMEZONE:Europe/Madrid
DESCRIPTION:A càrrec de Mercè Palay

URI:https://www.calella.cat/actualitat/agenda/lhora-del-conte-per-a-nadons.html
CLASS:PUBLIC
END:VEVENT
END:VCALENDAR
