BEGIN:VCALENDAR
VERSION:2.0
CALSCALE:GREGORIAN
PRODID:-//Diputació de Barcelona//DibaCMS//EN
BEGIN:VEVENT
UID:4518
DTSTAMP:20260423T212333
DTSTART:20220318T220000
DTEND:20220318T220000
SUMMARY:23è. Cafè Jazz a Calella
LOCATION:c. Església, 91 08370 Calella
METHOD:PUBLISH
X-WR-CALNAME:calella@calella.cat
X-WR-TIMEZONE:Europe/Madrid
DESCRIPTION:Concert amb Albert Bover (piano), Masa Kamaguchi (contrabaix) i Víctor Carrascosa (trompeta).

URI:https://www.calella.cat/actualitat/agenda/4518-23e-cafe-jazz-a-calella.html
CLASS:PUBLIC
END:VEVENT
END:VCALENDAR
