BEGIN:VCALENDAR
VERSION:2.0
CALSCALE:GREGORIAN
PRODID:-//Diputació de Barcelona//DibaCMS//EN
BEGIN:VEVENT
UID:4515
DTSTAMP:20260423T181416
DTSTART:20220317T160000
DTEND:20220317T160000
SUMMARY:Assessoria presencial de mobilitat internacional
LOCATION:c. Sant Jaume, 225-229 08370 Calella
METHOD:PUBLISH
X-WR-CALNAME:calella@calella.cat
X-WR-TIMEZONE:Europe/Madrid
DESCRIPTION:
URI:https://www.calella.cat/actualitat/agenda/assessoria-presencial-de-mobilitat-internacional.html
CLASS:PUBLIC
END:VEVENT
END:VCALENDAR
