BEGIN:VCALENDAR
VERSION:2.0
CALSCALE:GREGORIAN
PRODID:-//Diputació de Barcelona//DibaCMS//EN
BEGIN:VEVENT
UID:4514
DTSTAMP:20260423T132129
DTSTART:20220317T110000
DTEND:20220317T110000
SUMMARY:Grup de conversa en català
LOCATION:Plaça de l'Ajuntament, 31 08370 Calella
METHOD:PUBLISH
X-WR-CALNAME:calella@calella.cat
X-WR-TIMEZONE:Europe/Madrid
DESCRIPTION:a càrrec de Marisa. 

URI:https://www.calella.cat/actualitat/agenda/4514-grup-de-conversa-en-catala.html
CLASS:PUBLIC
END:VEVENT
END:VCALENDAR
