BEGIN:VCALENDAR
VERSION:2.0
CALSCALE:GREGORIAN
PRODID:-//Diputació de Barcelona//DibaCMS//EN
BEGIN:VEVENT
UID:4507
DTSTAMP:20260424T020845
DTSTART:20220314T183000
DTEND:20220314T183000
SUMMARY:Club de lectura Tardes de tertúlia
LOCATION:Plaça de l'Ajuntament, 31 08370 Calella
METHOD:PUBLISH
X-WR-CALNAME:calella@calella.cat
X-WR-TIMEZONE:Europe/Madrid
DESCRIPTION:amb el comentari de Sucre cremat, d’Avni Doshi.

URI:https://www.calella.cat/actualitat/agenda/4507-club-de-lectura-tardes-de-tertulia.html
CLASS:PUBLIC
END:VEVENT
END:VCALENDAR
