BEGIN:VCALENDAR
VERSION:2.0
CALSCALE:GREGORIAN
PRODID:-//Diputació de Barcelona//DibaCMS//EN
BEGIN:VEVENT
UID:4504
DTSTAMP:20260423T110215
DTSTART:20220314T180000
DTEND:20220314T180000
SUMMARY:Inici del concurs d’escriptura i il·lustració Sant Jordi i Santa Jordina 2022 “Reinventa’t la llegenda!”
LOCATION:Plaça de l'Ajuntament, 31 08370 Calella
METHOD:PUBLISH
X-WR-CALNAME:calella@calella.cat
X-WR-TIMEZONE:Europe/Madrid
DESCRIPTION:
URI:https://www.calella.cat/actualitat/agenda/inici-del-concurs-descriptura-i-illustracio-sant-jordi-i-santa-jordina-2022-reinventat-la-llegenda.html
CLASS:PUBLIC
END:VEVENT
END:VCALENDAR
