BEGIN:VCALENDAR
VERSION:2.0
CALSCALE:GREGORIAN
PRODID:-//Diputació de Barcelona//DibaCMS//EN
BEGIN:VEVENT
UID:4503
DTSTAMP:20260423T122615
DTSTART:20220315T100000
DTEND:20220315T130000
SUMMARY:Curs online “Aplicacions i recursos digitals per augmentar la productivitat millorant el treball col·laboratiu”
LOCATION:
METHOD:PUBLISH
X-WR-CALNAME:calella@calella.cat
X-WR-TIMEZONE:Europe/Madrid
DESCRIPTION:adreçat a empreses i persones emprenedores

URI:https://www.calella.cat/actualitat/agenda/curs-online-aplicacions-i-recursos-digitals-per-augmentar-la-productivitat-millorant-el-treball-collaboratiu.html
CLASS:PUBLIC
END:VEVENT
END:VCALENDAR
