BEGIN:VCALENDAR
VERSION:2.0
CALSCALE:GREGORIAN
PRODID:-//Diputació de Barcelona//DibaCMS//EN
BEGIN:VEVENT
UID:4502
DTSTAMP:20260423T212009
DTSTART:20220313T090000
DTEND:20220313T090000
SUMMARY:Lectura del manifest amb motiu del Dia Internacional de les Dones
LOCATION:c. Anselm Clavé, s/n 08370 Calella
METHOD:PUBLISH
X-WR-CALNAME:calella@calella.cat
X-WR-TIMEZONE:Europe/Madrid
DESCRIPTION:A càrrec de les residències i el centre de dia de Calella, i inici de la 9a. Marxa per la Dona Treballadora

 

URI:https://www.calella.cat/actualitat/agenda/lectura-del-manifest-amb-motiu-del-dia-internacional-de-les-dones.html
CLASS:PUBLIC
END:VEVENT
END:VCALENDAR
