BEGIN:VCALENDAR
VERSION:2.0
CALSCALE:GREGORIAN
PRODID:-//Diputació de Barcelona//DibaCMS//EN
BEGIN:VEVENT
UID:4499
DTSTAMP:20260423T212104
DTSTART:20220311T220000
DTEND:20220311T220000
SUMMARY:23è. Cafè Jazz a Calella
LOCATION:c. Anselm Clavé, s/n 08370 Calella
METHOD:PUBLISH
X-WR-CALNAME:calella@calella.cat
X-WR-TIMEZONE:Europe/Madrid
DESCRIPTION:Al restaurant La Gàbia. Concert amb Isa Membrilla (piano), Toni Pujol (contrabaix), César Martínez (bateria) i Lucas Martínez (saxo).

URI:https://www.calella.cat/actualitat/agenda/4499-23e-cafe-jazz-a-calella.html
CLASS:PUBLIC
END:VEVENT
END:VCALENDAR
