BEGIN:VCALENDAR
VERSION:2.0
CALSCALE:GREGORIAN
PRODID:-//Diputació de Barcelona//DibaCMS//EN
BEGIN:VEVENT
UID:4497
DTSTAMP:20260424T023110
DTSTART:20220311T180000
DTEND:20220311T180000
SUMMARY:Taller de defensa personal a càrrec de Khady Seck Beye
LOCATION:c. Sant Jaume, 225-229 08370 Calella
METHOD:PUBLISH
X-WR-CALNAME:calella@calella.cat
X-WR-TIMEZONE:Europe/Madrid
DESCRIPTION:
URI:https://www.calella.cat/actualitat/agenda/taller-de-defensa-personal-a-carrec-de-khady-seck-beye.html
CLASS:PUBLIC
END:VEVENT
END:VCALENDAR
