BEGIN:VCALENDAR
VERSION:2.0
CALSCALE:GREGORIAN
PRODID:-//Diputació de Barcelona//DibaCMS//EN
BEGIN:VEVENT
UID:4496
DTSTAMP:20260424T020942
DTSTART:20220310T180000
DTEND:20220310T180000
SUMMARY:Anem a la Sala d’Exposicions de l’Ajuntament Vell
LOCATION:c. Sant Jaume, 225-229 08370 Calella
METHOD:PUBLISH
X-WR-CALNAME:calella@calella.cat
X-WR-TIMEZONE:Europe/Madrid
DESCRIPTION:a visitar l’exposició “Calella és solidària”.

URI:https://www.calella.cat/actualitat/agenda/anem-a-la-sala-dexposicions-de-lajuntament-vell.html
CLASS:PUBLIC
END:VEVENT
END:VCALENDAR
